BEGIN:VCALENDAR
VERSION:2.0
PRODID:-//wp-events-plugin.com//7.2.3.1//EN
BEGIN:VEVENT
UID:8891@visitlebanonky.com
DTSTART;TZID=America/Kentucky/Louisville:20260221T100000
DTEND;TZID=America/Kentucky/Louisville:20260221T140000
DTSTAMP:20260219T211926Z
URL:https://visitlebanonky.com/events/renew-and-recharge/
SUMMARY:Renew and Recharge
DESCRIPTION:Join us Saturday\, February 21\, from 10 a.m. till 2 p.m.\, for
  Renew & Recharge! Mental Health and Wellness is key to a healthy\, balanc
 ed life. Learn about support tools\, visit vendors\, and connect with new 
 friends.
ATTACH;FMTTYPE=image/jpeg:https://visitlebanonky.com/wp-content/uploads/20
 26/02/RENEW-AND-RECHARGE.jpg
CATEGORIES:Community
LOCATION:Marion County Public Library\, 201 E Main St\, Lebanon\, KY/Marion
 \, 40033\, Marion County\, United States
X-APPLE-STRUCTURED-LOCATION;VALUE=URI;X-ADDRESS=201 E Main St\, Lebanon\, K
 Y/Marion\, 40033\, Marion County\, United States;X-APPLE-RADIUS=100;X-TITL
 E=Marion County Public Library:geo:0,0
END:VEVENT
BEGIN:VTIMEZONE
TZID:America/Kentucky/Louisville
X-LIC-LOCATION:America/Kentucky/Louisville
BEGIN:STANDARD
DTSTART:20251102T010000
TZOFFSETFROM:-0400
TZOFFSETTO:-0500
TZNAME:EST
END:STANDARD
END:VTIMEZONE
END:VCALENDAR