BEGIN:VCALENDAR
VERSION:2.0
PRODID:-//wp-events-plugin.com//7.2.3.1//EN
BEGIN:VEVENT
UID:9185@visitlebanonky.com
DTSTART;TZID=America/Kentucky/Louisville:20260415T190000
DTEND;TZID=America/Kentucky/Louisville:20260417T203000
DTSTAMP:20260413T150006Z
URL:https://visitlebanonky.com/events/revival-at-first-baptist-church/
SUMMARY:Revival at First Baptist Church
DESCRIPTION:You can find the church on Facebook HERE
ATTACH;FMTTYPE=image/jpeg:https://visitlebanonky.com/wp-content/uploads/20
 26/04/revival-e1776092340779.jpg
CATEGORIES:Community
LOCATION:First Baptist Church\, 231 North Depot Street\, Lebanon\, Kentucky
 \, 40033\, Marion County\, United States
GEO:37.570111;-85.257862
X-APPLE-STRUCTURED-LOCATION;VALUE=URI;X-ADDRESS=231 North Depot Street\, Le
 banon\, Kentucky\, 40033\, Marion County\, United States;X-APPLE-RADIUS=10
 0;X-TITLE=First Baptist Church:geo:37.570111,-85.257862
END:VEVENT
BEGIN:VTIMEZONE
TZID:America/Kentucky/Louisville
X-LIC-LOCATION:America/Kentucky/Louisville
BEGIN:DAYLIGHT
DTSTART:20260308T030000
TZOFFSETFROM:-0500
TZOFFSETTO:-0400
TZNAME:EDT
END:DAYLIGHT
END:VTIMEZONE
END:VCALENDAR