BEGIN:VCALENDAR
VERSION:2.0
PRODID:-//wp-events-plugin.com//7.2.3.1//EN
BEGIN:VEVENT
UID:9270@visitlebanonky.com
DTSTART;TZID=America/Kentucky/Louisville:20260702T180000
DTEND;TZID=America/Kentucky/Louisville:20260702T200000
DTSTAMP:20260424T161327Z
URL:https://visitlebanonky.com/events/revolutionary-war-in-a-trunk-2/
SUMMARY:Revolutionary War In A Trunk
DESCRIPTION:Join us on July 2 at 6 p.m. at the Marion County Historical Soc
 iety (115 S. Proctor Knott Ave) as we celebrate America’s 250th.\nStep b
 ack in time with Geoff Baggett and experience the Revolutionary War like n
 ever before. “Revolutionary War in a Trunk” is an interactive program 
 where visitors can explore a wooden trunk filled with 18th-century weapons
 \, tools\, clothing\, and everyday items. This unique presentation brings 
 to life what it was like to live on the Kentucky frontier in the 1770s.\nS
 eating is limited\, so please RSVP to reserve your spot.\nThis program was
  funded in part by the Kentucky Humanities and the National Endowment for 
 the Humanities.\n\n*No end time was listed on the event page. The time lis
 ted is strictly a space holder.\n\nFind this event on Facebook HERE\nFollo
 w the Marion County Historical Society on Facebook HERE
ATTACH;FMTTYPE=image/jpeg:https://visitlebanonky.com/wp-content/uploads/20
 26/04/revolutionary.jpg
CATEGORIES:Community
LOCATION:Marion County Historical Society\, 115 S Proctor Knott Ave\, Leban
 on\, Kentucky\, 40033\, Marion County\, United States
GEO:37.568729;-85.253822
X-APPLE-STRUCTURED-LOCATION;VALUE=URI;X-ADDRESS=115 S Proctor Knott Ave\, L
 ebanon\, Kentucky\, 40033\, Marion County\, United States;X-APPLE-RADIUS=1
 00;X-TITLE=Marion County Historical Society:geo:37.568729,-85.253822
END:VEVENT
BEGIN:VTIMEZONE
TZID:America/Kentucky/Louisville
X-LIC-LOCATION:America/Kentucky/Louisville
BEGIN:DAYLIGHT
DTSTART:20260308T030000
TZOFFSETFROM:-0500
TZOFFSETTO:-0400
TZNAME:EDT
END:DAYLIGHT
END:VTIMEZONE
END:VCALENDAR