BEGIN:VCALENDAR
VERSION:2.0
PRODID:-//wp-events-plugin.com//7.2.3.1//EN
BEGIN:VEVENT
UID:9066@visitlebanonky.com
DTSTART;TZID=America/Kentucky/Louisville:20260702T180000
DTEND;TZID=America/Kentucky/Louisville:20260702T193000
DTSTAMP:20260317T201152Z
URL:https://visitlebanonky.com/events/revolutionary-war-in-a-trunk/
SUMMARY:Revolutionary War in a Trunk
DESCRIPTION:Join us on July 2 at 6 p.m. at the Marion County Historical Soc
 iety (115 S. Proctor Knott Ave) as we celebrate America’s 250th.\nStep b
 ack in time with Geoff Baggett and experience the Revolutionary War like n
 ever before. “Revolutionary War in a Trunk” is an interactive program 
 where visitors can explore a wooden trunk filled with 18th-century weapons
 \, tools\, clothing\, and everyday items. This unique presentation brings 
 to life what it was like to live on the Kentucky frontier in the 1770s.\nS
 eating is limited\, so please RSVP to reserve your spot at 270-699-9455\, 
 mckyheritage@gmail.com or you can find the event on Facebook HERE You can 
 also find other events on Facebook HERE\nThis program was funded in part b
 y the Kentucky Humanities and the National Endowment for the Humanities. 
ATTACH;FMTTYPE=image/jpeg:https://visitlebanonky.com/wp-content/uploads/20
 26/03/war-in-a-trunk.jpg
CATEGORIES:Community
LOCATION:Marion County Historical Society\, 115 S Proctor Knott Ave\, Leban
 on\, Kentucky\, 40033\, Marion County\, United States
GEO:37.568729;-85.253822
X-APPLE-STRUCTURED-LOCATION;VALUE=URI;X-ADDRESS=115 S Proctor Knott Ave\, L
 ebanon\, Kentucky\, 40033\, Marion County\, United States;X-APPLE-RADIUS=1
 00;X-TITLE=Marion County Historical Society:geo:37.568729,-85.253822
END:VEVENT
BEGIN:VTIMEZONE
TZID:America/Kentucky/Louisville
X-LIC-LOCATION:America/Kentucky/Louisville
BEGIN:DAYLIGHT
DTSTART:20260308T030000
TZOFFSETFROM:-0500
TZOFFSETTO:-0400
TZNAME:EDT
END:DAYLIGHT
END:VTIMEZONE
END:VCALENDAR