BEGIN:VCALENDAR
VERSION:2.0
PRODID:-//wp-events-plugin.com//7.2.3.1//EN
BEGIN:VEVENT
UID:8449@visitlebanonky.com
DTSTART;TZID=America/Kentucky/Louisville:20251218T160000
DTEND;TZID=America/Kentucky/Louisville:20251218T190000
DTSTAMP:20251210T194542Z
URL:https://visitlebanonky.com/events/ribbon-cutting-for-mc-historical-soc
 iety/
SUMMARY:Ribbon Cutting For MC Historical Society
DESCRIPTION:Follow on Facebook HERE \nWe’ve got brand-new window graphics
  installed at our new home on Proctor Knott—and they look incredible! Sh
 outout to Matt Newcome\, who not only printed these graphics but has also 
 been hard at work printing many of the exhibit panels you’ll see inside.
  We also want to give a big thank-you to Paul Thomas\, who’s helped us w
 ith several finishing touches to spruce things up inside.\nWe’re excited
  to officially open this new space with regular hours in the new year\, bu
 t you don’t have to wait that long to take a peek. 👀 \n📅 Open Hous
 e + Chamber Ribbon Cutting\n🗓 December 18\n⏰ Drop in anytime 4–7 PM
 \nCome see the new space\, the progress we’ve made\, and what’s coming
  next for local history in Marion County.
ATTACH;FMTTYPE=image/jpeg:https://visitlebanonky.com/wp-content/uploads/20
 25/12/mc-historical-society.jpg
CATEGORIES:Community
LOCATION:Marion County Historical Society\, 115 S Proctor Knott Ave\, Leban
 on\, Kentucky\, 40033\, Marion County\, United States
GEO:37.568729;-85.253822
X-APPLE-STRUCTURED-LOCATION;VALUE=URI;X-ADDRESS=115 S Proctor Knott Ave\, L
 ebanon\, Kentucky\, 40033\, Marion County\, United States;X-APPLE-RADIUS=1
 00;X-TITLE=Marion County Historical Society:geo:37.568729,-85.253822
END:VEVENT
BEGIN:VTIMEZONE
TZID:America/Kentucky/Louisville
X-LIC-LOCATION:America/Kentucky/Louisville
BEGIN:STANDARD
DTSTART:20251102T010000
TZOFFSETFROM:-0400
TZOFFSETTO:-0500
TZNAME:EST
END:STANDARD
END:VTIMEZONE
END:VCALENDAR