BEGIN:VCALENDAR
VERSION:2.0
PRODID:-//wp-events-plugin.com//7.2.3.1//EN
BEGIN:VEVENT
UID:7602@visitlebanonky.com
DTSTART;TZID=America/Kentucky/Louisville:20250523T120000
DTEND;TZID=America/Kentucky/Louisville:20250523T130000
DTSTAMP:20250513T233052Z
URL:https://visitlebanonky.com/events/ribbon-cutting-for-pit-stop/
SUMMARY:Ribbon Cutting for Pit Stop
DESCRIPTION:From the event on Facebook at https://www.facebook.com/mckycham
 ber\n🎉You're Invited! 🎉\nCome join us for the Ribbon Cutting Celebra
 tion of The Pit Stop!!\n📍 456 E. Main St. Lebanon Ky\, 40033\n📅 Frid
 ay\, May 23rd\n🕐 12:00 PM\nWe're thrilled to welcome this amazing new r
 estaurant to Lebanon. Come out\, show your support\, and help us give The 
 Pit Stop a warm Marion County welcome!
ATTACH;FMTTYPE=image/jpeg:https://visitlebanonky.com/wp-content/uploads/20
 25/05/the-pit-stop.jpg
CATEGORIES:Community
LOCATION:The Pit Stop\, 456 East Main Street\, Lebanon\, Kentucky\, 40033\,
  Marion County\, United States
GEO:37.575032;-85.23706
X-APPLE-STRUCTURED-LOCATION;VALUE=URI;X-ADDRESS=456 East Main Street\, Leba
 non\, Kentucky\, 40033\, Marion County\, United States;X-APPLE-RADIUS=100;
 X-TITLE=The Pit Stop:geo:37.575032,-85.23706
END:VEVENT
BEGIN:VTIMEZONE
TZID:America/Kentucky/Louisville
X-LIC-LOCATION:America/Kentucky/Louisville
BEGIN:DAYLIGHT
DTSTART:20250309T030000
TZOFFSETFROM:-0500
TZOFFSETTO:-0400
TZNAME:EDT
END:DAYLIGHT
END:VTIMEZONE
END:VCALENDAR