BEGIN:VCALENDAR
VERSION:2.0
PRODID:-//wp-events-plugin.com//7.2.3.1//EN
BEGIN:VEVENT
UID:9080@visitlebanonky.com
DTSTART;TZID=America/Kentucky/Louisville:20260330T120000
DTEND;TZID=America/Kentucky/Louisville:20260330T140000
DTSTAMP:20260320T204438Z
URL:https://visitlebanonky.com/events/ribbon-cutting-open-house-celebratio
 n-for-local-honey-boutique/
SUMMARY:Ribbon Cutting & Open House Celebration for Local Honey Boutique
DESCRIPTION:You’re Invited!! ✨\nJoin us for a Ribbon Cutting & Open Hou
 se Celebration for Local Honey Boutique 🐝\n📅 Monday\, March 30th\n
 ⏰ 12:00 PM\n📍 709 W Main Street\, Unit 4\, Lebanon\, KY\nCome out and
  help us celebrate this sweet new addition to Lebanon! Stop by\, show your
  support\, and check out all that Local Honey Boutique has to offer! 🛍
 ️
ATTACH;FMTTYPE=image/jpeg:https://visitlebanonky.com/wp-content/uploads/20
 26/03/local-honey.jpg
CATEGORIES:Community
LOCATION:Local Honey Boutique\, 709 W Main St\, Lebanon\, Kentucky\, 40033\
 , Marion County\, United States
GEO:37.562507;-85.26813
X-APPLE-STRUCTURED-LOCATION;VALUE=URI;X-ADDRESS=709 W Main St\, Lebanon\, K
 entucky\, 40033\, Marion County\, United States;X-APPLE-RADIUS=100;X-TITLE
 =Local Honey Boutique:geo:37.562507,-85.26813
END:VEVENT
BEGIN:VTIMEZONE
TZID:America/Kentucky/Louisville
X-LIC-LOCATION:America/Kentucky/Louisville
BEGIN:DAYLIGHT
DTSTART:20260308T030000
TZOFFSETFROM:-0500
TZOFFSETTO:-0400
TZNAME:EDT
END:DAYLIGHT
END:VTIMEZONE
END:VCALENDAR