BEGIN:VCALENDAR
VERSION:2.0
PRODID:-//wp-events-plugin.com//7.2.3.1//EN
BEGIN:VEVENT
UID:8327@visitlebanonky.com
DTSTART;TZID=America/Kentucky/Louisville:20260110T000000
DTEND;TZID=America/Kentucky/Louisville:20260111T000000
DTSTAMP:20251125T002549Z
URL:https://visitlebanonky.com/events/rk-shows/
SUMMARY:RK Gun and Knife Show
DESCRIPTION:R.K. Shows are coming to the Marion County Event Center & Sport
 splex on January 10th & 11th\, 2026. \nHours\n1/10 Saturday - 9 am to 5 pm
 \n1/11 Sunday - 10 am to 4 pm\nTickets\nAdults: $10 (VIP $12.50)\nKids: $4
  (VIP $6.50)\n(Video) HERE\n(Tickets) HERE  \n(Vendors) HERE
ATTACH;FMTTYPE=image/jpeg:https://visitlebanonky.com/wp-content/uploads/20
 25/11/RK-Gun-and-Knife-Show.jpg
CATEGORIES:Official
LOCATION:Marion County Event Center and Sportsplex\, 101 Independence Drive
  \, LEBANON\, KY\, 40033\, Marion County\, United States
X-APPLE-STRUCTURED-LOCATION;VALUE=URI;X-ADDRESS=101 Independence Drive \, L
 EBANON\, KY\, 40033\, Marion County\, United States;X-APPLE-RADIUS=100;X-T
 ITLE=Marion County Event Center and Sportsplex:geo:0,0
END:VEVENT
BEGIN:VTIMEZONE
TZID:America/Kentucky/Louisville
X-LIC-LOCATION:America/Kentucky/Louisville
BEGIN:STANDARD
DTSTART:20251102T010000
TZOFFSETFROM:-0400
TZOFFSETTO:-0500
TZNAME:EST
END:STANDARD
END:VTIMEZONE
END:VCALENDAR