BEGIN:VCALENDAR
VERSION:2.0
PRODID:-//wp-events-plugin.com//7.2.3.1//EN
BEGIN:VEVENT
UID:9175@visitlebanonky.com
DTSTART;TZID=America/Kentucky/Louisville:20260411T170000
DTEND;TZID=America/Kentucky/Louisville:20260411T210000
DTSTAMP:20260410T191121Z
URL:https://visitlebanonky.com/events/ryan-raikes-at-good-buddies/
SUMMARY:Ryan Raikes at Good Buddies
DESCRIPTION:
ATTACH;FMTTYPE=image/jpeg:https://visitlebanonky.com/wp-content/uploads/20
 26/04/ryan-raikes.jpg
CATEGORIES:Community
LOCATION:Good Buddies Brewing Company\, 104 Independence Drive\, LEBANON\, 
 KY\, 40033\, Marion County\, United States
X-APPLE-STRUCTURED-LOCATION;VALUE=URI;X-ADDRESS=104 Independence Drive\, LE
 BANON\, KY\, 40033\, Marion County\, United States;X-APPLE-RADIUS=100;X-TI
 TLE=Good Buddies Brewing Company:geo:0,0
END:VEVENT
BEGIN:VTIMEZONE
TZID:America/Kentucky/Louisville
X-LIC-LOCATION:America/Kentucky/Louisville
BEGIN:DAYLIGHT
DTSTART:20260308T030000
TZOFFSETFROM:-0500
TZOFFSETTO:-0400
TZNAME:EDT
END:DAYLIGHT
END:VTIMEZONE
END:VCALENDAR