BEGIN:VCALENDAR
VERSION:2.0
PRODID:-//wp-events-plugin.com//7.2.3.1//EN
BEGIN:VEVENT
UID:7612@visitlebanonky.com
DTSTART;TZID=America/Kentucky/Louisville:20250522T190000
DTEND;TZID=America/Kentucky/Louisville:20250522T210000
DTSTAMP:20250520T031401Z
URL:https://visitlebanonky.com/events/ryan-raikes-at-rosewood/
SUMMARY:Ryan Raikes at Rosewood
DESCRIPTION:This Thursday at 7 p.m.\, the amazing Ryan Raikes will be playi
 ng tunes on the patio. Come check him out and grab some grub and a cold br
 ew!
ATTACH;FMTTYPE=image/jpeg:https://visitlebanonky.com/wp-content/uploads/20
 25/05/raikes.jpg
CATEGORIES:Community
LOCATION:Rosewood Bar &amp\; Grill Banquet Room\, 520 Fairway Dr.\, Lebanon
 \, KY/Marion\, 40033\, Marion County\, United States
X-APPLE-STRUCTURED-LOCATION;VALUE=URI;X-ADDRESS=520 Fairway Dr.\, Lebanon\,
  KY/Marion\, 40033\, Marion County\, United States;X-APPLE-RADIUS=100;X-TI
 TLE=Rosewood Bar & Grill Banquet Room:geo:0,0
END:VEVENT
BEGIN:VTIMEZONE
TZID:America/Kentucky/Louisville
X-LIC-LOCATION:America/Kentucky/Louisville
BEGIN:DAYLIGHT
DTSTART:20250309T030000
TZOFFSETFROM:-0500
TZOFFSETTO:-0400
TZNAME:EDT
END:DAYLIGHT
END:VTIMEZONE
END:VCALENDAR