BEGIN:VCALENDAR
VERSION:2.0
PRODID:-//wp-events-plugin.com//7.2.3.1//EN
BEGIN:VEVENT
UID:6609@visitlebanonky.com
DTSTART;TZID=America/Kentucky/Louisville:20241214T100000
DTEND;TZID=America/Kentucky/Louisville:20241214T150000
DTSTAMP:20241212T220245Z
URL:https://visitlebanonky.com/events/santa-at-countryplace-greenhouse/
SUMMARY:Santa at Countryplace Greenhouse
DESCRIPTION:Country Place Greenhouse is having Santa Claus and an elf avail
 able for pictures on Saturday\, December 14 from 10 a.m. till 3 p.m. We ar
 e located across from the airport.
ATTACH;FMTTYPE=image/jpeg:https://visitlebanonky.com/wp-content/uploads/20
 24/12/country-place.jpg
CATEGORIES:Community
LOCATION:Country Place Greenhouse\, 3797 Lebanon Road\, Springfield\, Kentu
 cky\, 40069\, Washington County\, United States
GEO:37.673974;-85.227155
X-APPLE-STRUCTURED-LOCATION;VALUE=URI;X-ADDRESS=3797 Lebanon Road\, Springf
 ield\, Kentucky\, 40069\, Washington County\, United States;X-APPLE-RADIUS
 =100;X-TITLE=Country Place Greenhouse:geo:37.673974,-85.227155
END:VEVENT
BEGIN:VTIMEZONE
TZID:America/Kentucky/Louisville
X-LIC-LOCATION:America/Kentucky/Louisville
BEGIN:STANDARD
DTSTART:20241103T010000
TZOFFSETFROM:-0400
TZOFFSETTO:-0500
TZNAME:EST
END:STANDARD
END:VTIMEZONE
END:VCALENDAR