BEGIN:VCALENDAR
VERSION:2.0
PRODID:-//wp-events-plugin.com//7.2.3.1//EN
BEGIN:VEVENT
UID:8465@visitlebanonky.com
DTSTART;TZID=America/Kentucky/Louisville:20251220T170000
DTEND;TZID=America/Kentucky/Louisville:20251220T190000
DTSTAMP:20251215T173803Z
URL:https://visitlebanonky.com/events/santa-at-the-country-store-in-bradfo
 rdsville/
SUMMARY:Santa at the Country Store in Bradfordsville
DESCRIPTION:Santa will be making a stop at the Country Store in Bradfordsvi
 lle on Saturday December 20 at 5 p.m. Here's a chance to get him your list
  and snap a photo. You can find the Country Store on Facebook HERE 
ATTACH;FMTTYPE=image/jpeg:https://visitlebanonky.com/wp-content/uploads/20
 25/12/santa-at-country-store.jpg
CATEGORIES:Community
LOCATION:Country Store Restaurant\, 205 W Main St\, Bradfordsville\, Kentuc
 ky\, 40009\, Marion County\, United States
GEO:37.494976;-85.147883
X-APPLE-STRUCTURED-LOCATION;VALUE=URI;X-ADDRESS=205 W Main St\, Bradfordsvi
 lle\, Kentucky\, 40009\, Marion County\, United States;X-APPLE-RADIUS=100;
 X-TITLE=Country Store Restaurant:geo:37.494976,-85.147883
END:VEVENT
BEGIN:VTIMEZONE
TZID:America/Kentucky/Louisville
X-LIC-LOCATION:America/Kentucky/Louisville
BEGIN:STANDARD
DTSTART:20251102T010000
TZOFFSETFROM:-0400
TZOFFSETTO:-0500
TZNAME:EST
END:STANDARD
END:VTIMEZONE
END:VCALENDAR