BEGIN:VCALENDAR
VERSION:2.0
PRODID:-//wp-events-plugin.com//7.2.3.1//EN
BEGIN:VEVENT
UID:8134@visitlebanonky.com
DTSTART;TZID=America/Kentucky/Louisville:20251220T140000
DTEND;TZID=America/Kentucky/Louisville:20251220T160000
DTSTAMP:20251016T170843Z
URL:https://visitlebanonky.com/events/santa-at-the-market/
SUMMARY:Santa at the Market
DESCRIPTION:From the event page on Facebook https://www.facebook.com/share/
 1LYTdvcn4w/\n
ATTACH;FMTTYPE=image/jpeg:https://visitlebanonky.com/wp-content/uploads/20
 25/10/santa-at-the-market.jpg
CATEGORIES:Community
LOCATION:Lebanon Meat Market\, 100 Independence Drive\, LEBANON\, KY\, 4003
 3\, Marion County\, United States
GEO:37.064878;-84.615699
X-APPLE-STRUCTURED-LOCATION;VALUE=URI;X-ADDRESS=100 Independence Drive\, LE
 BANON\, KY\, 40033\, Marion County\, United States;X-APPLE-RADIUS=100;X-TI
 TLE=Lebanon Meat Market:geo:37.064878,-84.615699
END:VEVENT
BEGIN:VTIMEZONE
TZID:America/Kentucky/Louisville
X-LIC-LOCATION:America/Kentucky/Louisville
BEGIN:STANDARD
DTSTART:20251102T010000
TZOFFSETFROM:-0400
TZOFFSETTO:-0500
TZNAME:EST
END:STANDARD
END:VTIMEZONE
END:VCALENDAR