BEGIN:VCALENDAR
VERSION:2.0
PRODID:-//wp-events-plugin.com//7.2.3.1//EN
BEGIN:VEVENT
UID:6595@visitlebanonky.com
DTSTART;TZID=America/Kentucky/Louisville:20241214T000000
DTEND;TZID=America/Kentucky/Louisville:20241214T000000
DTSTAMP:20241211T171603Z
URL:https://visitlebanonky.com/events/santa-claus-at-vfw-post-5910/
SUMMARY:Santa Claus at VFW Post 5910
DESCRIPTION:VFW Post 5910 in Lebanon will be hosting a holiday event on Sat
 urday\, December 14 from 5-8 p.m. Santa Claus and his elves will be handin
 g out small gifts for children ages 3-8. Anyone is welcome to come and joi
 n in on the fun! There will be music and celebration afterwards until midn
 ight for adults.
CATEGORIES:Community
LOCATION:VFW Post 5910\, 101 Veterans Drive\, Lebanon\, Kentucky\, 40033\, 
 Marion County\, United States
GEO:37.568294;-85.257504
X-APPLE-STRUCTURED-LOCATION;VALUE=URI;X-ADDRESS=101 Veterans Drive\, Lebano
 n\, Kentucky\, 40033\, Marion County\, United States;X-APPLE-RADIUS=100;X-
 TITLE=VFW Post 5910:geo:37.568294,-85.257504
END:VEVENT
BEGIN:VTIMEZONE
TZID:America/Kentucky/Louisville
X-LIC-LOCATION:America/Kentucky/Louisville
BEGIN:STANDARD
DTSTART:20241103T010000
TZOFFSETFROM:-0400
TZOFFSETTO:-0500
TZNAME:EST
END:STANDARD
END:VTIMEZONE
END:VCALENDAR