BEGIN:VCALENDAR
VERSION:2.0
PRODID:-//wp-events-plugin.com//7.2.3.1//EN
BEGIN:VEVENT
UID:6617@visitlebanonky.com
DTSTART;TZID=America/Kentucky/Louisville:20241222T110000
DTEND;TZID=America/Kentucky/Louisville:20241222T140000
DTSTAMP:20241217T201426Z
URL:https://visitlebanonky.com/events/santa-claus-is-coming-to-the-loretto
 -area-on-a-firetruck/
SUMMARY:Santa Claus is coming to the Loretto area on a Firetruck
DESCRIPTION:
ATTACH;FMTTYPE=image/jpeg:https://visitlebanonky.com/wp-content/uploads/20
 24/12/santa-in-lorett-1.jpg
CATEGORIES:Community
END:VEVENT
BEGIN:VTIMEZONE
TZID:America/Kentucky/Louisville
X-LIC-LOCATION:America/Kentucky/Louisville
BEGIN:STANDARD
DTSTART:20241103T010000
TZOFFSETFROM:-0400
TZOFFSETTO:-0500
TZNAME:EST
END:STANDARD
END:VTIMEZONE
END:VCALENDAR