BEGIN:VCALENDAR
VERSION:2.0
PRODID:-//wp-events-plugin.com//7.2.3.1//EN
BEGIN:VEVENT
UID:6584@visitlebanonky.com
DTSTART;TZID=America/Kentucky/Louisville:20241207T000000
DTEND;TZID=America/Kentucky/Louisville:20241207T000000
DTSTAMP:20241203T043731Z
URL:https://visitlebanonky.com/events/santa-claus/
SUMMARY:Santa Claus
DESCRIPTION:
ATTACH;FMTTYPE=image/jpeg:https://visitlebanonky.com/wp-content/uploads/20
 24/12/santa-raywick.jpg
CATEGORIES:Community
END:VEVENT
BEGIN:VTIMEZONE
TZID:America/Kentucky/Louisville
X-LIC-LOCATION:America/Kentucky/Louisville
BEGIN:STANDARD
DTSTART:20241103T010000
TZOFFSETFROM:-0400
TZOFFSETTO:-0500
TZNAME:EST
END:STANDARD
END:VTIMEZONE
END:VCALENDAR