BEGIN:VCALENDAR
VERSION:2.0
PRODID:-//wp-events-plugin.com//7.2.3.1//EN
BEGIN:VEVENT
UID:6619@visitlebanonky.com
DTSTART;TZID=America/Kentucky/Louisville:20241220T173000
DTEND;TZID=America/Kentucky/Louisville:20241220T190000
DTSTAMP:20241217T201225Z
URL:https://visitlebanonky.com/events/santa-is-coming-to-cedarwood-restaur
 ant/
SUMMARY:Santa is coming to Cedarwood Restaurant
DESCRIPTION:🎅🏼SANTA’S COMIN TO TOWN🎅🏼\nDON’T MISS IT!!!🎄
 🎁🎅🏼\nSanta will be at Cedarwood from 5:30pm-7pm THIS FRIDAY Decem
 ber 20th!!
ATTACH;FMTTYPE=image/jpeg:https://visitlebanonky.com/wp-content/uploads/20
 24/12/santa-at-cedarwood.jpg
CATEGORIES:Official
LOCATION:Cedarwood Restaurant•Catering•Concessions & Gifts\, 660 E. Mai
 n Street\, Lebanon\, Kentucky\, 40033\, Marion County\, United States
GEO:37.573041;-85.243528
X-APPLE-STRUCTURED-LOCATION;VALUE=URI;X-ADDRESS=660 E. Main Street\, Lebano
 n\, Kentucky\, 40033\, Marion County\, United States;X-APPLE-RADIUS=100;X-
 TITLE=Cedarwood Restaurant•Catering•Concessions & Gifts:geo:37.573041,
 -85.243528
END:VEVENT
BEGIN:VTIMEZONE
TZID:America/Kentucky/Louisville
X-LIC-LOCATION:America/Kentucky/Louisville
BEGIN:STANDARD
DTSTART:20241103T010000
TZOFFSETFROM:-0400
TZOFFSETTO:-0500
TZNAME:EST
END:STANDARD
END:VTIMEZONE
END:VCALENDAR