BEGIN:VCALENDAR
VERSION:2.0
PRODID:-//wp-events-plugin.com//7.2.3.1//EN
BEGIN:VEVENT
UID:8371@visitlebanonky.com
DTSTART;TZID=America/Kentucky/Louisville:20251213T110000
DTEND;TZID=America/Kentucky/Louisville:20251213T173000
DTSTAMP:20251201T004242Z
URL:https://visitlebanonky.com/events/santa-visits-raywick-fire-department
 /
SUMMARY:Santa Visits- Raywick Fire Department
DESCRIPTION:Raywick Fire Department will be making our rounds through town 
 on Saturday December 13 with a *VERY* special guest! We will be posting up
 dates that day as we may be ahead of/behind schedule. Keep an eye (and ear
 ) out for us on our Facebook page HERE
ATTACH;FMTTYPE=image/jpeg:https://visitlebanonky.com/wp-content/uploads/20
 25/12/raywick-santa.jpg
CATEGORIES:Community
END:VEVENT
BEGIN:VTIMEZONE
TZID:America/Kentucky/Louisville
X-LIC-LOCATION:America/Kentucky/Louisville
BEGIN:STANDARD
DTSTART:20251102T010000
TZOFFSETFROM:-0400
TZOFFSETTO:-0500
TZNAME:EST
END:STANDARD
END:VTIMEZONE
END:VCALENDAR