BEGIN:VCALENDAR
VERSION:2.0
PRODID:-//wp-events-plugin.com//7.2.3.1//EN
BEGIN:VEVENT
UID:9058@visitlebanonky.com
DTSTART;TZID=America/Kentucky/Louisville:20260320T110000
DTEND;TZID=America/Kentucky/Louisville:20260320T200000
DTSTAMP:20260317T044402Z
URL:https://visitlebanonky.com/events/sassy-but-classy-5-year-anniversary-
 celebration/
SUMMARY:Sassy But Classy 5-Year Anniversary Celebration
DESCRIPTION:You can find the Facebook event page HERE\nWe are celebrating 5
  amazing years of Sassy but Classy + Kids and we couldn’t have done it w
 ithout YOU! Our customers\, friends\, and community have supported this sm
 all family dream\, and we are so grateful. 💕\nJoin us for a fun anniver
 sary celebration with:\n✨ Special Anniversary Sales\n✨ Door Prizes & G
 iveaways\n✨ New Arrivals\n✨ Refreshments\n✨ A day full of shopping\,
  fun\, and celebrating together!\nWhether you’ve been shopping with us s
 ince day one or are visiting for the first time\, we would love for you to
  come celebrate with us. Supporting small businesses means supporting loca
 l families and dreams\, and we appreciate every single one of you.\n📍 S
 assy but Classy + Kids\n📅 March 20\n⏰ 11-8\n🎈 Mark “Going\,” i
 nvite your friends\, and come celebrate 5 years with us!
ATTACH;FMTTYPE=image/jpeg:https://visitlebanonky.com/wp-content/uploads/20
 26/03/SASSY-BUT-CLASSY.jpg
CATEGORIES:Community
LOCATION:Sassy But Classy\, 160 W Main St\, Lebanon\, Kentucky\, 40033\, Ma
 rion County\, United States
GEO:37.569388;-85.253936
X-APPLE-STRUCTURED-LOCATION;VALUE=URI;X-ADDRESS=160 W Main St\, Lebanon\, K
 entucky\, 40033\, Marion County\, United States;X-APPLE-RADIUS=100;X-TITLE
 =Sassy But Classy:geo:37.569388,-85.253936
END:VEVENT
BEGIN:VTIMEZONE
TZID:America/Kentucky/Louisville
X-LIC-LOCATION:America/Kentucky/Louisville
BEGIN:DAYLIGHT
DTSTART:20260308T030000
TZOFFSETFROM:-0500
TZOFFSETTO:-0400
TZNAME:EDT
END:DAYLIGHT
END:VTIMEZONE
END:VCALENDAR