BEGIN:VCALENDAR
VERSION:2.0
PRODID:-//wp-events-plugin.com//7.2.3.1//EN
BEGIN:VEVENT
UID:6326@visitlebanonky.com
DTSTART;TZID=America/Kentucky/Louisville:20241101T000000
DTEND;TZID=America/Kentucky/Louisville:20241102T000000
DTSTAMP:20241022T223843Z
URL:https://visitlebanonky.com/events/sassy-but-classy-holiday-open-house-
 3/
SUMMARY:Sassy But Classy Holiday Open House
DESCRIPTION:🎄✨ Join Us for a Festive Holiday Celebration! ✨🎄\nIt
 ’s that magical time of year again! 🌟 Come celebrate the holidays wit
 h us at Sassy but Classy + Kids for a weekend filled with joy\, laughter\,
  and holiday cheer.\nThis is a community event so be sure to checkout all 
 your other downtown businesses and restaurants. 🎊Let’s support our sm
 all town together.\nWhat to expect:\n🍪 Delicious holiday treats\n🎁 F
 un activities for all ages\n🎅 Free Face Painting for the kids.\nBring y
 our friends\, family\, and holiday spirit! This is a perfect way to make n
 ew memories and share the joy of the season.\nShare this event and let’s
  make this holiday unforgettable! 🎉🎄\n#HolidayEvent #FestiveFun #Cel
 ebrateTogether #HolidayCheer
ATTACH;FMTTYPE=image/jpeg:https://visitlebanonky.com/wp-content/uploads/20
 24/10/sassy-open-house.jpg
CATEGORIES:Community
LOCATION:Sassy But Classy\, 160 W Main St\, Lebanon\, Kentucky\, 40033\, Ma
 rion County\, United States
GEO:37.569388;-85.253936
X-APPLE-STRUCTURED-LOCATION;VALUE=URI;X-ADDRESS=160 W Main St\, Lebanon\, K
 entucky\, 40033\, Marion County\, United States;X-APPLE-RADIUS=100;X-TITLE
 =Sassy But Classy:geo:37.569388,-85.253936
END:VEVENT
BEGIN:VTIMEZONE
TZID:America/Kentucky/Louisville
X-LIC-LOCATION:America/Kentucky/Louisville
BEGIN:DAYLIGHT
DTSTART:20240310T030000
TZOFFSETFROM:-0500
TZOFFSETTO:-0400
TZNAME:EDT
END:DAYLIGHT
END:VTIMEZONE
END:VCALENDAR