BEGIN:VCALENDAR
VERSION:2.0
PRODID:-//wp-events-plugin.com//7.2.3.1//EN
BEGIN:VEVENT
UID:7852@visitlebanonky.com
DTSTART;TZID=America/Kentucky/Louisville:20250806T000000
DTEND;TZID=America/Kentucky/Louisville:20250812T000000
DTSTAMP:20250806T155457Z
URL:https://visitlebanonky.com/events/school-open-house-dates/
SUMMARY:School Open House Dates
DESCRIPTION:Information from The Lebanon Enterprise.
ATTACH;FMTTYPE=image/jpeg:https://visitlebanonky.com/wp-content/uploads/20
 25/08/open-house-scaled.jpg
CATEGORIES:Community
END:VEVENT
BEGIN:VTIMEZONE
TZID:America/Kentucky/Louisville
X-LIC-LOCATION:America/Kentucky/Louisville
BEGIN:DAYLIGHT
DTSTART:20250309T030000
TZOFFSETFROM:-0500
TZOFFSETTO:-0400
TZNAME:EDT
END:DAYLIGHT
END:VTIMEZONE
END:VCALENDAR