BEGIN:VCALENDAR
VERSION:2.0
PRODID:-//wp-events-plugin.com//7.2.3.1//EN
BEGIN:VEVENT
UID:8660@visitlebanonky.com
DTSTART;TZID=America/Kentucky/Louisville:20260314T120000
DTEND;TZID=America/Kentucky/Louisville:20260314T150000
DTSTAMP:20260123T000612Z
URL:https://visitlebanonky.com/events/seed-and-plant-swap-2/
SUMMARY:Seed and Plant Swap
DESCRIPTION:Start your growing season off with a bang! Swap seeds\, plants\
 , and garden supplies. Talk with fellow plant peeps and spend quality time
  with friends. No seeds? Come anyway! There will be plenty. You can find t
 his event on Facebook HERE
ATTACH;FMTTYPE=image/jpeg:https://visitlebanonky.com/wp-content/uploads/20
 26/01/seed-and-swap.jpg
CATEGORIES:Community
LOCATION:Forkland Community Center\, 16479 Forkland Rd.\, Gravel Switch\, K
 Y/Boyle\, 40328\, Boyle County\, United States
X-APPLE-STRUCTURED-LOCATION;VALUE=URI;X-ADDRESS=16479 Forkland Rd.\, Gravel
  Switch\, KY/Boyle\, 40328\, Boyle County\, United States;X-APPLE-RADIUS=1
 00;X-TITLE=Forkland Community Center:geo:0,0
END:VEVENT
BEGIN:VTIMEZONE
TZID:America/Kentucky/Louisville
X-LIC-LOCATION:America/Kentucky/Louisville
BEGIN:DAYLIGHT
DTSTART:20260308T030000
TZOFFSETFROM:-0500
TZOFFSETTO:-0400
TZNAME:EDT
END:DAYLIGHT
END:VTIMEZONE
END:VCALENDAR