BEGIN:VCALENDAR
VERSION:2.0
PRODID:-//wp-events-plugin.com//7.2.3.1//EN
BEGIN:VEVENT
UID:8466@visitlebanonky.com
DTSTART;TZID=America/Kentucky/Louisville:20260206T000000
DTEND;TZID=America/Kentucky/Louisville:20260208T000000
DTSTAMP:20251215T174631Z
URL:https://visitlebanonky.com/events/she-loves-me/
SUMMARY:She Loves Me
DESCRIPTION:An intimate and touching show\, featuring music by Jerry Bock a
 nd Sheldon Harnick (Fiddler on the Roof) and book by Joe Masteroff (Cabare
 t)\, She Loves Me was nominated for five Tony Awards in 1964. The 1993 Bro
 adway revival won the Olivier Award for Best Musical Revival\, the Drama D
 esk Award for Outstanding Revival of a Musical and the 1994 Critics Circle
  Award for Best Musical\, while the 2016 Broadway Revival snagged the Tony
  Award for Best Scenic Design (beating Hamilton!). Considered by many to b
 e the most charming musical ever written\, She Loves Me is a warm romantic
  comedy with an endearing innocence and a touch of old-world elegance. The
  Mikos Lazlos play Parfuemerie\, on which it is based\, has inspired many 
 adaptations\, including the beloved film You've Got Mail starring Meg Ryan
  and Tom Hanks.\nSet in a 1930s European perfumery\, we meet shop clerks\,
  Amalia and Georg\, who\, more often than not\, don't see eye to eye. Afte
 r both respond to a "lonely hearts advertisement" in the newspaper\, they 
 now live for the love letters that they exchange\, but the identity of the
 ir admirers remains unknown. Join Amalia and Georg to discover the identit
 y of their true loves... and all the twists and turns along the way!\nShe 
 Loves Me showcases a small but strong ensemble cast playing a range of mem
 orable characters of all ages - and each with their moment to shine. As th
 e New York Times wrote\, "This musical is remarkably generous to all its p
 erformers: a half-dozen supporting characters are given show stoppers\, to
 o."\nDirector: Lauren Phillips\nChoreographer: Kelby Hammond\nMusic Direct
 or: Kimberly Strange\nCostumer: Cyndi Mattingly\nAssistant Costumer: Allis
 on Rose Lovins\nProps: Morgan Jessee\nProducer: Daniel Bannister\nTITLE SP
 ONSOR: Springfield State Bank\nShe Loves Me is presented through special a
 rrangement with Music Theatre International (MTI). All authorized performa
 nce materials are also supplied by MTI.\nwww.mtishows.com Buy your tickets
  HERE Find more about the event HERE Follow Central KY Theatre on Facebook
  HERE 
ATTACH;FMTTYPE=image/jpeg:https://visitlebanonky.com/wp-content/uploads/20
 25/12/She-loves-me.jpg
CATEGORIES:Official
LOCATION:Central Ky Theatre at the Opera House\, 124 W. Main St.\, Springfi
 eld\, Kentucky\, 40069\, Washington County\, United States
GEO:37.685307;-85.222427
X-APPLE-STRUCTURED-LOCATION;VALUE=URI;X-ADDRESS=124 W. Main St.\, Springfie
 ld\, Kentucky\, 40069\, Washington County\, United States;X-APPLE-RADIUS=1
 00;X-TITLE=Central Ky Theatre at the Opera House:geo:37.685307,-85.222427
END:VEVENT
BEGIN:VTIMEZONE
TZID:America/Kentucky/Louisville
X-LIC-LOCATION:America/Kentucky/Louisville
BEGIN:STANDARD
DTSTART:20251102T010000
TZOFFSETFROM:-0400
TZOFFSETTO:-0500
TZNAME:EST
END:STANDARD
END:VTIMEZONE
END:VCALENDAR