BEGIN:VCALENDAR
VERSION:2.0
PRODID:-//wp-events-plugin.com//7.2.3.1//EN
BEGIN:VEVENT
UID:6288@visitlebanonky.com
DTSTART;TZID=America/Kentucky/Louisville:20241130T000000
DTEND;TZID=America/Kentucky/Louisville:20241130T000000
DTSTAMP:20241017T211101Z
URL:https://visitlebanonky.com/events/shop-small-saturday-at-forkland-comm
 unity-center/
SUMMARY:Shop Small Saturday at Forkland Community Center
DESCRIPTION:Shop Small Saturday we will be stocked and ready for a great da
 y at the Forkland Community Center.\nFollow on Facebook for more informati
 on at https://www.facebook.com/forklandcomctr
ATTACH;FMTTYPE=image/jpeg:https://visitlebanonky.com/wp-content/uploads/20
 24/10/shop-small-forkland-community-center.jpg
CATEGORIES:Community
LOCATION:Forkland Community Center\, 16479 Forkland Rd.\, Gravel Switch\, K
 Y/Boyle\, 40328\, Boyle County\, United States
X-APPLE-STRUCTURED-LOCATION;VALUE=URI;X-ADDRESS=16479 Forkland Rd.\, Gravel
  Switch\, KY/Boyle\, 40328\, Boyle County\, United States;X-APPLE-RADIUS=1
 00;X-TITLE=Forkland Community Center:geo:0,0
END:VEVENT
BEGIN:VTIMEZONE
TZID:America/Kentucky/Louisville
X-LIC-LOCATION:America/Kentucky/Louisville
BEGIN:STANDARD
DTSTART:20241103T010000
TZOFFSETFROM:-0400
TZOFFSETTO:-0500
TZNAME:EST
END:STANDARD
END:VTIMEZONE
END:VCALENDAR