BEGIN:VCALENDAR
VERSION:2.0
PRODID:-//wp-events-plugin.com//7.2.3.1//EN
BEGIN:VEVENT
UID:8940@visitlebanonky.com
DTSTART;TZID=America/Kentucky/Louisville:20260307T000000
DTEND;TZID=America/Kentucky/Louisville:20260307T000000
DTSTAMP:20260306T170338Z
URL:https://visitlebanonky.com/events/silverado-at-the-pines-3/
SUMMARY:Silverado at The Pines
DESCRIPTION:This Saturday\, March 7th\, head on out to The Pines and let us
  play for you from 9pm-1am. The food is great\, the drinks are cold\, and 
 the music will be hot 
ATTACH;FMTTYPE=image/jpeg:https://visitlebanonky.com/wp-content/uploads/20
 24/12/silverado.jpg
CATEGORIES:Community
LOCATION:The Pines Restaurant and Bar\, 62220 Bradfordsville Road\, Lebanon
 \, KY/Marion\, 40033\, Marion County\, United States
GEO:42.03417;-91.59768
X-APPLE-STRUCTURED-LOCATION;VALUE=URI;X-ADDRESS=62220 Bradfordsville Road\,
  Lebanon\, KY/Marion\, 40033\, Marion County\, United States;X-APPLE-RADIU
 S=100;X-TITLE=The Pines Restaurant and Bar:geo:42.03417,-91.59768
END:VEVENT
BEGIN:VTIMEZONE
TZID:America/Kentucky/Louisville
X-LIC-LOCATION:America/Kentucky/Louisville
BEGIN:STANDARD
DTSTART:20251102T010000
TZOFFSETFROM:-0400
TZOFFSETTO:-0500
TZNAME:EST
END:STANDARD
END:VTIMEZONE
END:VCALENDAR