BEGIN:VCALENDAR
VERSION:2.0
PRODID:-//wp-events-plugin.com//7.2.3.1//EN
BEGIN:VEVENT
UID:6311@visitlebanonky.com
DTSTART;TZID=America/Kentucky/Louisville;VALUE=DATE:20241101
DTEND;TZID=America/Kentucky/Louisville;VALUE=DATE:20241103
DTSTAMP:20241101T165742Z
URL:https://visitlebanonky.com/events/simply-the-best-christmas-open-house
 /
SUMMARY:Simply the Best Christmas Open House
DESCRIPTION:From the Facebook page of Simply the Best\n \nIt’s time to Ji
 ngle and Mingle \nGrab the girls !!! Or your favorite guy !! \nEat and Sho
 p Local !! The businesses of Lebanon join together and we usher in the Hol
 iday Season !! We want you to shop with EVERYONE!!! Start at Lopers and wo
 rk all the way to Sew Irresistible and hit every stop in between.🎄🎄
 🎄🎄🎄🎄🎄\nChristmas Open House \nNovember 1st and 2nd 2024 \nF
 riday 11AM til 9PM \nSaturday 10AM til 2pm \nGet out and enjoy what Lebano
 n small businesses have worked so hard to bring  you.#wesupportoneanother\
 n#shopsmallshoplocal#shopsimply\n#shopwitheveryone
ATTACH;FMTTYPE=image/jpeg:https://visitlebanonky.com/wp-content/uploads/20
 24/10/simply-best-1.jpg
CATEGORIES:Community
LOCATION:Simply the Best\, 624 W Main St\, Lebanon\, Kentucky\, 40033\, Mar
 ion County\, United States
GEO:37.563716;-85.265931
X-APPLE-STRUCTURED-LOCATION;VALUE=URI;X-ADDRESS=624 W Main St\, Lebanon\, K
 entucky\, 40033\, Marion County\, United States;X-APPLE-RADIUS=100;X-TITLE
 =Simply the Best:geo:37.563716,-85.265931
END:VEVENT
BEGIN:VTIMEZONE
TZID:America/Kentucky/Louisville
X-LIC-LOCATION:America/Kentucky/Louisville
BEGIN:DAYLIGHT
DTSTART:20240310T030000
TZOFFSETFROM:-0500
TZOFFSETTO:-0400
TZNAME:EDT
END:DAYLIGHT
END:VTIMEZONE
END:VCALENDAR