BEGIN:VCALENDAR
VERSION:2.0
PRODID:-//wp-events-plugin.com//7.2.3.1//EN
BEGIN:VEVENT
UID:9104@visitlebanonky.com
DTSTART;TZID=America/Kentucky/Louisville:20260326T190000
DTEND;TZID=America/Kentucky/Louisville:20260326T210000
DTSTAMP:20260324T170912Z
URL:https://visitlebanonky.com/events/singo-night-at-good-buddies/
SUMMARY:Singo Night at Good Buddies
DESCRIPTION:🎶 Kicking Off This Thursday!! 🎶\nJoin us at Good Buddies 
 Brewing for our very first SINGO Night!\n🕖 Starts at 7PM\nHow it works:
 \n🎵 Hear the song\n🔍 Find it on your card\n✔️ Mark it off\n🏆 
 Get 5 in a row to WIN!\nIt’s bingo with a musical twist — fun\, fast-p
 aced\, and perfect for a night out!\nGrab your Good Buddies\, your favorit
 e drink\, and let’s play! 🍻🎶\nFollow on Facebook HERE for changes 
 and other events at Good Buddies.
ATTACH;FMTTYPE=image/jpeg:https://visitlebanonky.com/wp-content/uploads/20
 26/03/singo-night.jpg
CATEGORIES:Community
LOCATION:Good Buddies Brewing Company\, 104 Independence Drive\, LEBANON\, 
 KY\, 40033\, Marion County\, United States
X-APPLE-STRUCTURED-LOCATION;VALUE=URI;X-ADDRESS=104 Independence Drive\, LE
 BANON\, KY\, 40033\, Marion County\, United States;X-APPLE-RADIUS=100;X-TI
 TLE=Good Buddies Brewing Company:geo:0,0
END:VEVENT
BEGIN:VTIMEZONE
TZID:America/Kentucky/Louisville
X-LIC-LOCATION:America/Kentucky/Louisville
BEGIN:DAYLIGHT
DTSTART:20260308T030000
TZOFFSETFROM:-0500
TZOFFSETTO:-0400
TZNAME:EDT
END:DAYLIGHT
END:VTIMEZONE
END:VCALENDAR