BEGIN:VCALENDAR
VERSION:2.0
PRODID:-//wp-events-plugin.com//7.2.3.1//EN
BEGIN:VEVENT
UID:9081@visitlebanonky.com
DTSTART;TZID=America/Kentucky/Louisville:20260402T190000
DTEND;TZID=America/Kentucky/Louisville:20261217T210000
DTSTAMP:20260324T171059Z
URL:https://visitlebanonky.com/events/singo-or-trivia-at-good-buddies/
SUMMARY:Singo or Trivia at Good Buddies
DESCRIPTION:We’re kicking off SINGO! A musical twist on traditional bingo
 —and trust us\, it is SO much fun! \nWe’ll be rotating Singo and Trivi
 a every other Thursday at 7 p.m. so there’s always something fun happeni
 ng!  \nTag your Good Buddies and make plans to join us—this is one you d
 on’t want to miss!  \nSingo starts Thursday March 26 and goes every othe
 r week at 7 p.m.\nTrivia starts Thursday April 2 and goes every other week
  at 7 p.m.\nFollow on Facebook HERE for changes and other events at Good B
 uddies.
ATTACH;FMTTYPE=image/jpeg:https://visitlebanonky.com/wp-content/uploads/20
 26/03/singo.jpg
CATEGORIES:Community
LOCATION:Good Buddies Brewing Company\, 104 Independence Drive\, LEBANON\, 
 KY\, 40033\, Marion County\, United States
X-APPLE-STRUCTURED-LOCATION;VALUE=URI;X-ADDRESS=104 Independence Drive\, LE
 BANON\, KY\, 40033\, Marion County\, United States;X-APPLE-RADIUS=100;X-TI
 TLE=Good Buddies Brewing Company:geo:0,0
END:VEVENT
BEGIN:VTIMEZONE
TZID:America/Kentucky/Louisville
X-LIC-LOCATION:America/Kentucky/Louisville
BEGIN:DAYLIGHT
DTSTART:20260308T030000
TZOFFSETFROM:-0500
TZOFFSETTO:-0400
TZNAME:EDT
END:DAYLIGHT
BEGIN:STANDARD
DTSTART:20261101T010000
TZOFFSETFROM:-0400
TZOFFSETTO:-0500
TZNAME:EST
END:STANDARD
END:VTIMEZONE
END:VCALENDAR