BEGIN:VCALENDAR
VERSION:2.0
PRODID:-//wp-events-plugin.com//7.2.3.1//EN
BEGIN:VEVENT
UID:7817@visitlebanonky.com
DTSTART;TZID=America/Kentucky/Louisville:20250913T000000
DTEND;TZID=America/Kentucky/Louisville:20250913T000000
DTSTAMP:20250825T041305Z
URL:https://visitlebanonky.com/events/small-town-big-heart-idol-at-the-rol
 ling-fork-iron-horse-festival/
SUMMARY:Small Town\, Big Heart Idol at the Rolling Fork Iron Horse Festival
DESCRIPTION:New Haven\, Kentucky's Rolling Fork Iron Horse Festival Enterta
 inment Update! \nThis year\, we’re mixing things up a bit — while we w
 on’t have a closing concert\, there’s still plenty to look forward to!
   \n🎤 Our beloved WLSK Country 100.9 FM Small Town\, Big Heart Idol Con
 test Finals is still on and will close the festivities of the 2025 festiva
 l. Sponsored by Town and Country Bank and The Rolling Fork Iron Horse Fest
 ival! \nThe preliminaries will lead up here\, opening the Idol contest wit
 h last year’s winner\, Brandon Wayne\, who will drop a few great songs a
 nd his new single. \nWe can’t wait to cheer on our local talent!\nThis y
 ear’s focus is on celebrating a true hometown festival: Small Town\, Big
  Heart — full of delicious food\, local vendors\, family fun\, and commu
 nity pride.\nAnd the music doesn’t stop when we do! As the festival ends
 \, the live entertainment continues nearby:\n • 🎸 April Wine & Molly 
 Hatchet @\nThe Amp at Log Still\n📅 Saturday\, September 13\, 2025 · 7:
 00 PM\nVisit:\nhttps://www.logstilldistillery.com/theamp/\n • 🤠 Black
 top Rodeo at Long Branch Saloon\n📅 Saturday\, September 13\, 2025 · 9:
 00 PM\n🔗 Visit their Facebook page for details and updates  \nWe hope y
 ou’ll make it a full day of great music and community fun — all right 
 here in our beautiful part of Kentucky! The Small Town\, Big Heart New Hav
 en.
ATTACH;FMTTYPE=image/jpeg:https://visitlebanonky.com/wp-content/uploads/20
 25/07/iron-horse-festival.jpg
CATEGORIES:Community
LOCATION:Rolling Fork Iron Horse Festival\, Main Street\, New Haven\, KY\, 
 40051\, Nelson County\, United States
X-APPLE-STRUCTURED-LOCATION;VALUE=URI;X-ADDRESS=Main Street\, New Haven\, K
 Y\, 40051\, Nelson County\, United States;X-APPLE-RADIUS=100;X-TITLE=Rolli
 ng Fork Iron Horse Festival:geo:0,0
END:VEVENT
BEGIN:VTIMEZONE
TZID:America/Kentucky/Louisville
X-LIC-LOCATION:America/Kentucky/Louisville
BEGIN:DAYLIGHT
DTSTART:20250309T030000
TZOFFSETFROM:-0500
TZOFFSETTO:-0400
TZNAME:EDT
END:DAYLIGHT
END:VTIMEZONE
END:VCALENDAR