BEGIN:VCALENDAR
VERSION:2.0
PRODID:-//wp-events-plugin.com//7.2.3.1//EN
BEGIN:VEVENT
UID:7813@visitlebanonky.com
DTSTART;TZID=America/Kentucky/Louisville:20250807T000000
DTEND;TZID=America/Kentucky/Louisville:20250807T000000
DTSTAMP:20250728T203331Z
URL:https://visitlebanonky.com/events/small-town-big-heart-idol-qualifier-
 rounds-for-the-rolling-fork-iron-horse-festival-2/
SUMMARY:Small Town\, Big Heart Idol Qualifier Rounds for the Rolling Fork I
 ron Horse Festival
DESCRIPTION:Rounds are: \nAugust 1 Long Branch Saloon in New Haven\nAugust 
 7 Mammy's Kitchen & Bar in Bardstown\nAugust 14 Chasers Bar & Grill in Leb
 anon\nAugust 21 Cedarwood Restaurant in Lebanon\nAugust 29 Long Branch Sal
 oon in New Haven\n\nNew Haven\, Kentucky's Rolling Fork Iron Horse Festiva
 l Entertainment Update! \nThis year\, we’re mixing things up a bit — w
 hile we won’t have a closing concert\, there’s still plenty to look fo
 rward to!  \n🎤 Our beloved WLSK Country 100.9 FM Small Town\, Big Heart
  Idol Contest Finals is still on and will close the festivities of the 202
 5 festival. Sponsored by Town and Country Bank and The Rolling Fork Iron H
 orse Festival! \nThe preliminaries will lead up here\, opening the Idol co
 ntest with last year’s winner\, Brandon Wayne\, who will drop a few grea
 t songs and his new single. \nWe can’t wait to cheer on our local talent
 !\nThis year’s focus is on celebrating a true hometown festival: Small T
 own\, Big Heart — full of delicious food\, local vendors\, family fun\, 
 and community pride.\nAnd the music doesn’t stop when we do! As the fest
 ival ends\, the live entertainment continues nearby:\n • 🎸 April Wine
  & Molly Hatchet @\nThe Amp at Log Still\n📅 Saturday\, September 13\, 2
 025 · 7:00 PM\nVisit:\nhttps://www.logstilldistillery.com/theamp/\n • 
 🤠 Blacktop Rodeo at Long Branch Saloon\n📅 Saturday\, September 13\, 
 2025 · 9:00 PM\n🔗 Visit their Facebook page for details and updates  \
 nWe hope you’ll make it a full day of great music and community fun — 
 all right here in our beautiful part of Kentucky! The Small Town\, Big Hea
 rt New Haven.
ATTACH;FMTTYPE=image/jpeg:https://visitlebanonky.com/wp-content/uploads/20
 25/07/small-town.jpg
CATEGORIES:Official
LOCATION:Mammys Kitchen & Bar\, 116 W Stephen Foster Ave\, Bardstown\, Kent
 ucky\, 40004\, Nelson County\, United States
GEO:37.809741;-85.4678
X-APPLE-STRUCTURED-LOCATION;VALUE=URI;X-ADDRESS=116 W Stephen Foster Ave\, 
 Bardstown\, Kentucky\, 40004\, Nelson County\, United States;X-APPLE-RADIU
 S=100;X-TITLE=Mammys Kitchen & Bar:geo:37.809741,-85.4678
END:VEVENT
BEGIN:VTIMEZONE
TZID:America/Kentucky/Louisville
X-LIC-LOCATION:America/Kentucky/Louisville
BEGIN:DAYLIGHT
DTSTART:20250309T030000
TZOFFSETFROM:-0500
TZOFFSETTO:-0400
TZNAME:EDT
END:DAYLIGHT
END:VTIMEZONE
END:VCALENDAR