BEGIN:VCALENDAR
VERSION:2.0
PRODID:-//wp-events-plugin.com//7.2.3.1//EN
BEGIN:VEVENT
UID:7816@visitlebanonky.com
DTSTART;TZID=America/Kentucky/Louisville:20250829T000000
DTEND;TZID=America/Kentucky/Louisville:20250829T000000
DTSTAMP:20250825T195049Z
URL:https://visitlebanonky.com/events/small-town-big-heart-idol-qualifier-
 rounds-for-the-rolling-fork-iron-horse-festival-5/
SUMMARY:Small Town\, Big Heart Idol Qualifier Rounds for the Rolling Fork I
 ron Horse Festival
DESCRIPTION:Rounds are: \nAugust 1 Long Branch Saloon in New Haven\nAugust 
 7 Mammy's Kitchen in Bardstown\nAugust 14 Chasers Bar & Grill in Lebanon\n
 August 21 Cedarwood Restaurant in Lebanon\nAugust 29 Long Branch Saloon in
  New Haven\n\nNew Haven\, Kentucky's Rolling Fork Iron Horse Festival Ente
 rtainment Update! \nThis year\, we’re mixing things up a bit — while w
 e won’t have a closing concert\, there’s still plenty to look forward 
 to!  \n🎤 Our beloved WLSK Country 100.9 FM Small Town\, Big Heart Idol 
 Contest Finals is still on and will close the festivities of the 2025 fest
 ival. Sponsored by Town and Country Bank and The Rolling Fork Iron Horse F
 estival! \nThe preliminaries will lead up here\, opening the Idol contest 
 with last year’s winner\, Brandon Wayne\, who will drop a few great song
 s and his new single. \nWe can’t wait to cheer on our local talent!\nThi
 s year’s focus is on celebrating a true hometown festival: Small Town\, 
 Big Heart — full of delicious food\, local vendors\, family fun\, and co
 mmunity pride.\nAnd the music doesn’t stop when we do! As the festival e
 nds\, the live entertainment continues nearby:\n • 🎸 April Wine & Mol
 ly Hatchet @\nThe Amp at Log Still\n📅 Saturday\, September 13\, 2025 ·
  7:00 PM\nVisit:\nhttps://www.logstilldistillery.com/theamp/\n • 🤠 Bl
 acktop Rodeo at Long Branch Saloon\n📅 Saturday\, September 13\, 2025 ·
  9:00 PM\n🔗 Visit their Facebook page for details and updates  \nWe hop
 e you’ll make it a full day of great music and community fun — all rig
 ht here in our beautiful part of Kentucky! The Small Town\, Big Heart New 
 Haven.
ATTACH;FMTTYPE=image/jpeg:https://visitlebanonky.com/wp-content/uploads/20
 25/07/small-town.jpg
CATEGORIES:Community
LOCATION:Longbranch Saloon\, 135 S Main St\, New Haven\, Kentucky\, 40051\,
  Nelson County\, United States
GEO:37.657548;-85.593783
X-APPLE-STRUCTURED-LOCATION;VALUE=URI;X-ADDRESS=135 S Main St\, New Haven\,
  Kentucky\, 40051\, Nelson County\, United States;X-APPLE-RADIUS=100;X-TIT
 LE=Longbranch Saloon:geo:37.657548,-85.593783
END:VEVENT
BEGIN:VTIMEZONE
TZID:America/Kentucky/Louisville
X-LIC-LOCATION:America/Kentucky/Louisville
BEGIN:DAYLIGHT
DTSTART:20250309T030000
TZOFFSETFROM:-0500
TZOFFSETTO:-0400
TZNAME:EDT
END:DAYLIGHT
END:VTIMEZONE
END:VCALENDAR