BEGIN:VCALENDAR
VERSION:2.0
PRODID:-//wp-events-plugin.com//7.2.3.1//EN
BEGIN:VEVENT
UID:7834@visitlebanonky.com
DTSTART;TZID=America/Kentucky/Louisville:20251003T080000
DTEND;TZID=America/Kentucky/Louisville:20251005T233000
DTSTAMP:20250829T161456Z
URL:https://visitlebanonky.com/events/sorghum-festival-2025/
SUMMARY:Sorghum Festival 2025
DESCRIPTION:The Springfield Washington County Chamber of Commerce invites y
 ou to our 2025 Sorghum Festival in Springfield\, KY on October 3rd–5th a
 s we proudly celebrate 49 years of small-town tradition and community fun!
  This year’s festival is packed with activities for the entire family\, 
 including five free concerts\, a parade\, barnyard games\, the Sorghum Kid
 s Festival\, and the return of Praise Fest on Sunday morning\, followed by
  a hearty Sorghum Festival Breakfast. Enjoy delicious food from local vend
 ors\, explore unique craft booths\, and don’t miss fan favorites like th
 e Farm to City Breakfast\, the Prince and Princess Contest\, the Dog Show\
 , and the classic Cruise-In on Main Street. With something for everyone al
 l weekend long\, we can’t wait to celebrate this sweet tradition with yo
 u!\n\nYou can follow this event on Facebook at https://www.facebook.com/sh
 are/1CG7qxDiZC/\n 
ATTACH;FMTTYPE=image/jpeg:https://visitlebanonky.com/wp-content/uploads/20
 25/07/Sorghum-Festival-1.jpg
CATEGORIES:Official
LOCATION:Downtown Springfield\, North Cross Main Street\, Springfield\, Ken
 tucky\, 40069\, Washington County\, United States
GEO:37.685224;-85.221964
X-APPLE-STRUCTURED-LOCATION;VALUE=URI;X-ADDRESS=North Cross Main Street\, S
 pringfield\, Kentucky\, 40069\, Washington County\, United States;X-APPLE-
 RADIUS=100;X-TITLE=Downtown Springfield:geo:37.685224,-85.221964
END:VEVENT
BEGIN:VTIMEZONE
TZID:America/Kentucky/Louisville
X-LIC-LOCATION:America/Kentucky/Louisville
BEGIN:DAYLIGHT
DTSTART:20250309T030000
TZOFFSETFROM:-0500
TZOFFSETTO:-0400
TZNAME:EDT
END:DAYLIGHT
END:VTIMEZONE
END:VCALENDAR