BEGIN:VCALENDAR
VERSION:2.0
PRODID:-//wp-events-plugin.com//7.2.3.1//EN
BEGIN:VEVENT
UID:7867@visitlebanonky.com
DTSTART;TZID=America/Kentucky/Louisville:20250920T000000
DTEND;TZID=America/Kentucky/Louisville:20250920T000000
DTSTAMP:20250811T163714Z
URL:https://visitlebanonky.com/events/soul-forge-invitational/
SUMMARY:Soul Forge Invitational
DESCRIPTION:From the event page on Facebook at https://www.facebook.com/sha
 re/19RtBipG3f/\nWe are hosting a powerlifting competition at Fit Factory o
 n September 20\, 2025. Anyone who wants to compete needs to go to this web
 site to sign up. Please come support our local competition.\nhttps://www.a
 mericanpowerliftingunion.com/\n 
ATTACH;FMTTYPE=image/jpeg:https://visitlebanonky.com/wp-content/uploads/20
 25/08/soul-forge.jpg
CATEGORIES:Community
LOCATION:Fit Factory\, 609 W Main Street\, Lebanon\, Kentucky\, 40033\, Mar
 ion County\, United States
GEO:37.563696;-85.265979
X-APPLE-STRUCTURED-LOCATION;VALUE=URI;X-ADDRESS=609 W Main Street\, Lebanon
 \, Kentucky\, 40033\, Marion County\, United States;X-APPLE-RADIUS=100;X-T
 ITLE=Fit Factory:geo:37.563696,-85.265979
END:VEVENT
BEGIN:VTIMEZONE
TZID:America/Kentucky/Louisville
X-LIC-LOCATION:America/Kentucky/Louisville
BEGIN:DAYLIGHT
DTSTART:20250309T030000
TZOFFSETFROM:-0500
TZOFFSETTO:-0400
TZNAME:EDT
END:DAYLIGHT
END:VTIMEZONE
END:VCALENDAR