BEGIN:VCALENDAR
VERSION:2.0
PRODID:-//wp-events-plugin.com//7.2.3.1//EN
BEGIN:VEVENT
UID:9109@visitlebanonky.com
DTSTART;TZID=America/Kentucky/Louisville:20260414T153000
DTEND;TZID=America/Kentucky/Louisville:20260414T183000
DTSTAMP:20260324T184857Z
URL:https://visitlebanonky.com/events/souper-tuesday-at-knights-of-columbu
 s/
SUMMARY:Souper Tuesday at Knights of Columbus
DESCRIPTION:•Kentucky Burgoo: Chicken\, Pork\, Beef $18\n•Turkey Hot Br
 own Soup with Cheesy Mornay\, Bow Tie Pasta\, Roasted Cherry Tomatoes\, an
 d Bacon $17\n•Carrot Ginger (Veg\,GF) 16\n•Bourbon Chocolate Sheet-cak
 e with Pecans $4\n•Large Spring Meet salad: baby greens\, radishes\, pea
 s\, bacon\, croutons\, creamy herb dressing. $10\n•Fresh cheese bread $1
 0 \nFind this event on Facebook HERE
ATTACH;FMTTYPE=image/jpeg:https://visitlebanonky.com/wp-content/uploads/20
 26/03/souper-tuesday.jpg
CATEGORIES:Community
LOCATION:Knights of Columbus Hall\, 600 South Spalding Ave.\, Lebanon\, Ken
 tucky\, 40033\, Marion County\, United States
GEO:37.56278;-85.246128
X-APPLE-STRUCTURED-LOCATION;VALUE=URI;X-ADDRESS=600 South Spalding Ave.\, L
 ebanon\, Kentucky\, 40033\, Marion County\, United States;X-APPLE-RADIUS=1
 00;X-TITLE=Knights of Columbus Hall:geo:37.56278,-85.246128
END:VEVENT
BEGIN:VTIMEZONE
TZID:America/Kentucky/Louisville
X-LIC-LOCATION:America/Kentucky/Louisville
BEGIN:DAYLIGHT
DTSTART:20260308T030000
TZOFFSETFROM:-0500
TZOFFSETTO:-0400
TZNAME:EDT
END:DAYLIGHT
END:VTIMEZONE
END:VCALENDAR