BEGIN:VCALENDAR
VERSION:2.0
PRODID:-//wp-events-plugin.com//7.2.3.1//EN
BEGIN:VEVENT
UID:5971@visitlebanonky.com
DTSTART;TZID=America/Kentucky/Louisville:20240809T200000
DTEND;TZID=America/Kentucky/Louisville:20240809T220000
DTSTAMP:20240805T184628Z
URL:https://visitlebanonky.com/events/space-night/
SUMMARY:Space Night
DESCRIPTION:From the event page on Facebook at https://fb.me/e/3BhzA9u9e\nN
 ew Pioneers is so excited to host another Space Night this year on Friday\
 , August 9\, 2024\, from 8-10 p.m! We'll be gathering "under the stars" to
  learn about our solar system and view the Perseid Meteor Shower! 🌟🛰
 ️\nWe hope to see you there! 😊
ATTACH;FMTTYPE=image/jpeg:https://visitlebanonky.com/wp-content/uploads/20
 24/08/space-night.jpg
CATEGORIES:Community
LOCATION:Idle Hour Park\, 1705 Highway 555\, Springfield\, KY\, 40060\, Was
 hington County\, United States
X-APPLE-STRUCTURED-LOCATION;VALUE=URI;X-ADDRESS=1705 Highway 555\, Springfi
 eld\, KY\, 40060\, Washington County\, United States;X-APPLE-RADIUS=100;X-
 TITLE=Idle Hour Park:geo:0,0
END:VEVENT
BEGIN:VTIMEZONE
TZID:America/Kentucky/Louisville
X-LIC-LOCATION:America/Kentucky/Louisville
BEGIN:DAYLIGHT
DTSTART:20240310T030000
TZOFFSETFROM:-0500
TZOFFSETTO:-0400
TZNAME:EDT
END:DAYLIGHT
END:VTIMEZONE
END:VCALENDAR