BEGIN:VCALENDAR
VERSION:2.0
PRODID:-//wp-events-plugin.com//7.2.3.1//EN
BEGIN:VEVENT
UID:8856@visitlebanonky.com
DTSTART;TZID=America/Kentucky/Louisville:20260215T120000
DTEND;TZID=America/Kentucky/Louisville:20260215T130000
DTSTAMP:20260209T171418Z
URL:https://visitlebanonky.com/events/spaghetti-dinner-fundraiser/
SUMMARY:Spaghetti Dinner Fundraiser
DESCRIPTION:💗💕 Spaghetti Dinner Fundraiser 💕💗\nJoin us for lunc
 h on Sunday\, February 15\, 2026 for our Youth and Children’s Ministries
  Fundraiser. They will be having a Spaghetti Dinner after the morning wors
 hip service in the fellowship hall and monetary donations are welcome. If 
 you would like to donate a dessert please contact Tiffany Underwood. \nMar
 k it in your calendar and join us! \nYou can find this event and others at
  the church on Facebook HERE
ATTACH;FMTTYPE=image/jpeg:https://visitlebanonky.com/wp-content/uploads/20
 26/02/SPAGHETTI.jpg
CATEGORIES:Community
LOCATION:Muldraugh Hill Baptist Church\, 4430 Highway 289\, Lebanon\, Kentu
 cky\, 40033\, Marion County\, United States
GEO:37.474947;-85.329265
X-APPLE-STRUCTURED-LOCATION;VALUE=URI;X-ADDRESS=4430 Highway 289\, Lebanon\
 , Kentucky\, 40033\, Marion County\, United States;X-APPLE-RADIUS=100;X-TI
 TLE=Muldraugh Hill Baptist Church:geo:37.474947,-85.329265
END:VEVENT
BEGIN:VTIMEZONE
TZID:America/Kentucky/Louisville
X-LIC-LOCATION:America/Kentucky/Louisville
BEGIN:STANDARD
DTSTART:20251102T010000
TZOFFSETFROM:-0400
TZOFFSETTO:-0500
TZNAME:EST
END:STANDARD
END:VTIMEZONE
END:VCALENDAR