BEGIN:VCALENDAR
VERSION:2.0
PRODID:-//wp-events-plugin.com//7.2.3.1//EN
BEGIN:VEVENT
UID:8086@visitlebanonky.com
DTSTART;TZID=America/Kentucky/Louisville:20251025T170000
DTEND;TZID=America/Kentucky/Louisville:20251025T200000
DTSTAMP:20251021T234640Z
URL:https://visitlebanonky.com/events/spaghetti-fundraiser/
SUMMARY:Spaghetti Fundraiser
DESCRIPTION:🍝 Before you and your family enjoy Halloween in the Park\, s
 top in next door at the St. Francis Xavier Parish Hall for a delicious spa
 ghetti dinner! Raffle chances for the quilt (it's beautiful) and the gift 
 card basket will also be sold. Drawing for the two raffles will be held at
  7:30 p.m. that night. All proceeds will help our youth group attend NCYC 
 (National Catholic Youth Conference in Indianapolis) in November.\nSaturda
 y\, October 25th\nMeal from 5-8pm @ Parish Hall\nTrick or Treating from 7-
 8pm @ Park\n
ATTACH;FMTTYPE=image/jpeg:https://visitlebanonky.com/wp-content/uploads/20
 25/10/spaghetti-fundraiser.jpg
CATEGORIES:Community
LOCATION:Saint Francis Xavier Catholic Church\, 108 Main St.\, Raywick\, Ke
 ntucky\, 40060\, Marion County\, United States
GEO:37.561224;-85.431009
X-APPLE-STRUCTURED-LOCATION;VALUE=URI;X-ADDRESS=108 Main St.\, Raywick\, Ke
 ntucky\, 40060\, Marion County\, United States;X-APPLE-RADIUS=100;X-TITLE=
 Saint Francis Xavier Catholic Church:geo:37.561224,-85.431009
END:VEVENT
BEGIN:VTIMEZONE
TZID:America/Kentucky/Louisville
X-LIC-LOCATION:America/Kentucky/Louisville
BEGIN:DAYLIGHT
DTSTART:20250309T030000
TZOFFSETFROM:-0500
TZOFFSETTO:-0400
TZNAME:EDT
END:DAYLIGHT
END:VTIMEZONE
END:VCALENDAR