BEGIN:VCALENDAR
VERSION:2.0
PRODID:-//wp-events-plugin.com//7.2.3.1//EN
BEGIN:VEVENT
UID:8443@visitlebanonky.com
DTSTART;TZID=America/Kentucky/Louisville:20260501T000000
DTEND;TZID=America/Kentucky/Louisville:20260503T000000
DTSTAMP:20251209T014517Z
URL:https://visitlebanonky.com/events/sponge-bob-the-musical-2/
SUMMARY:Sponge Bob the Musical
DESCRIPTION:More information can be found HERE centralkytheatre.com.  
ATTACH;FMTTYPE=image/jpeg:https://visitlebanonky.com/wp-content/uploads/20
 25/12/spongebob.jpg
CATEGORIES:Official
LOCATION:Springfield Opera House\, 124 W. Main St.\, Springfield\, Kentucky
 \, 40069\, Washington County\, United States
GEO:37.685307;-85.222427
X-APPLE-STRUCTURED-LOCATION;VALUE=URI;X-ADDRESS=124 W. Main St.\, Springfie
 ld\, Kentucky\, 40069\, Washington County\, United States;X-APPLE-RADIUS=1
 00;X-TITLE=Springfield Opera House:geo:37.685307,-85.222427
END:VEVENT
BEGIN:VTIMEZONE
TZID:America/Kentucky/Louisville
X-LIC-LOCATION:America/Kentucky/Louisville
BEGIN:DAYLIGHT
DTSTART:20260308T030000
TZOFFSETFROM:-0500
TZOFFSETTO:-0400
TZNAME:EDT
END:DAYLIGHT
END:VTIMEZONE
END:VCALENDAR