BEGIN:VCALENDAR
VERSION:2.0
PRODID:-//wp-events-plugin.com//7.2.3.1//EN
BEGIN:VEVENT
UID:8441@visitlebanonky.com
DTSTART;TZID=America/Kentucky/Louisville:20260103T180000
DTEND;TZID=America/Kentucky/Louisville:20260104T200000
DTSTAMP:20251228T040428Z
URL:https://visitlebanonky.com/events/sponge-bob-the-musical-auditions/
SUMMARY:Sponge Bob the Musical Auditions
DESCRIPTION:🚨AUDITION ALERT🚨 \nThe sun shines down on this extraordin
 ary Bikini Bottom Day! ☀️🎶🧽 Auditions for our Youth Actors produ
 ction of “The SpongeBob Musical” will take place on Jan. 3rd & 4th at 
 6 p.m. All 6-12 grade students are encouraged to audition. No registration
  or previous experience is required. 🎉 All audition materials and chara
 cter breakdowns can be found on our website HERE centralkytheatre.com. We 
 hope to see you there!
ATTACH;FMTTYPE=image/jpeg:https://visitlebanonky.com/wp-content/uploads/20
 25/12/spongebob.jpg
CATEGORIES:Community
LOCATION:Springfield Opera House\, 124 W. Main St.\, Springfield\, Kentucky
 \, 40069\, Washington County\, United States
GEO:37.685307;-85.222427
X-APPLE-STRUCTURED-LOCATION;VALUE=URI;X-ADDRESS=124 W. Main St.\, Springfie
 ld\, Kentucky\, 40069\, Washington County\, United States;X-APPLE-RADIUS=1
 00;X-TITLE=Springfield Opera House:geo:37.685307,-85.222427
END:VEVENT
BEGIN:VTIMEZONE
TZID:America/Kentucky/Louisville
X-LIC-LOCATION:America/Kentucky/Louisville
BEGIN:STANDARD
DTSTART:20251102T010000
TZOFFSETFROM:-0400
TZOFFSETTO:-0500
TZNAME:EST
END:STANDARD
END:VTIMEZONE
END:VCALENDAR