BEGIN:VCALENDAR
VERSION:2.0
PRODID:-//wp-events-plugin.com//7.2.3.1//EN
BEGIN:VEVENT
UID:8697@visitlebanonky.com
DTSTART;TZID=America/Kentucky/Louisville:20260306T000000
DTEND;TZID=America/Kentucky/Louisville:20260307T000000
DTSTAMP:20260219T143014Z
URL:https://visitlebanonky.com/events/spring-main-street-market-3/
SUMMARY:Spring Main Street Market
DESCRIPTION:Who is ready for SPRING??\nCome out and shop all of our amazing
  vendors\, eat some great food\, and come take a photo with the Easter Bun
 ny! (Photos are take your own)\nFriday March 6\, 2026 5-8 pm\nEaster bunny
  from 6-8 pm\nSaturday March 7\, 2026 10 am to 4 pm\nEaster bunny from 11 
 am to 1 pm\nYou can follow the Event on Facebook HERE
ATTACH;FMTTYPE=image/jpeg:https://visitlebanonky.com/wp-content/uploads/20
 26/02/spring-main-st-market.jpg
CATEGORIES:Official
LOCATION:Venue 68\, 212 W Main St\, Lebanon\, KY/Marion\, 40033\, United St
 ates
X-APPLE-STRUCTURED-LOCATION;VALUE=URI;X-ADDRESS=212 W Main St\, Lebanon\, K
 Y/Marion\, 40033\, United States;X-APPLE-RADIUS=100;X-TITLE=Venue 68:geo:0
 ,0
END:VEVENT
BEGIN:VTIMEZONE
TZID:America/Kentucky/Louisville
X-LIC-LOCATION:America/Kentucky/Louisville
BEGIN:STANDARD
DTSTART:20251102T010000
TZOFFSETFROM:-0400
TZOFFSETTO:-0500
TZNAME:EST
END:STANDARD
END:VTIMEZONE
END:VCALENDAR