BEGIN:VCALENDAR
VERSION:2.0
PRODID:-//wp-events-plugin.com//7.2.3.1//EN
BEGIN:VEVENT
UID:8937@visitlebanonky.com
DTSTART;TZID=America/Kentucky/Louisville:20260306T100000
DTEND;TZID=America/Kentucky/Louisville:20260306T200000
DTSTAMP:20260306T181624Z
URL:https://visitlebanonky.com/events/spring-open-house/
SUMMARY:Spring Open House
DESCRIPTION:Follow on Facebook HERE
ATTACH;FMTTYPE=image/jpeg:https://visitlebanonky.com/wp-content/uploads/20
 26/03/spring-open-house.jpg
CATEGORIES:Official
LOCATION:Fabulous Friends Florals\, 209 W Main St\, Lebanon\, Kentucky\, 40
 033\, Marion County\, United States
GEO:37.569181;-85.254665
X-APPLE-STRUCTURED-LOCATION;VALUE=URI;X-ADDRESS=209 W Main St\, Lebanon\, K
 entucky\, 40033\, Marion County\, United States;X-APPLE-RADIUS=100;X-TITLE
 =Fabulous Friends Florals:geo:37.569181,-85.254665
END:VEVENT
BEGIN:VTIMEZONE
TZID:America/Kentucky/Louisville
X-LIC-LOCATION:America/Kentucky/Louisville
BEGIN:STANDARD
DTSTART:20251102T010000
TZOFFSETFROM:-0400
TZOFFSETTO:-0500
TZNAME:EST
END:STANDARD
END:VTIMEZONE
END:VCALENDAR