BEGIN:VCALENDAR
VERSION:2.0
PRODID:-//wp-events-plugin.com//7.2.3.1//EN
BEGIN:VEVENT
UID:8870@visitlebanonky.com
DTSTART;TZID=America/Kentucky/Louisville:20260312T180000
DTEND;TZID=America/Kentucky/Louisville:20260312T200000
DTSTAMP:20260212T044614Z
URL:https://visitlebanonky.com/events/spring-paint-pawty/
SUMMARY:Spring Paint Pawty
DESCRIPTION:The weather got you feeling blue? Make plans to come PAWTY with
  us! \nWe are collaborating with my fave non- profit Kay Turpin Animal Res
 cue Fund 🐾  to make these adorable carrot door hangers.  \n$40 covers y
 our blank\,  all supplies\, light refreshments and me to do that last minu
 te detail work for you 🤗\nFun craft ✔️ \nSnacks ✔️ \nRaising mo
 ney for a great cause ✔️ \nTickets can be purchased through \n -- Blac
 k Cat Studio\n-- KTARF\n-- All About You Salon\nNora Wheatley Luckett \nEr
 in Trosino Bland \nSharon Cecil\nYou can find this event on Facebook HERE
ATTACH;FMTTYPE=image/jpeg:https://visitlebanonky.com/wp-content/uploads/20
 26/02/spring-paint.jpg
CATEGORIES:Community
LOCATION:Venue 68\, 212 W Main St\, Lebanon\, KY/Marion\, 40033\, United St
 ates
X-APPLE-STRUCTURED-LOCATION;VALUE=URI;X-ADDRESS=212 W Main St\, Lebanon\, K
 Y/Marion\, 40033\, United States;X-APPLE-RADIUS=100;X-TITLE=Venue 68:geo:0
 ,0
END:VEVENT
BEGIN:VTIMEZONE
TZID:America/Kentucky/Louisville
X-LIC-LOCATION:America/Kentucky/Louisville
BEGIN:DAYLIGHT
DTSTART:20260308T030000
TZOFFSETFROM:-0500
TZOFFSETTO:-0400
TZNAME:EDT
END:DAYLIGHT
END:VTIMEZONE
END:VCALENDAR