BEGIN:VCALENDAR
VERSION:2.0
PRODID:-//wp-events-plugin.com//7.2.3.1//EN
BEGIN:VEVENT
UID:9192@visitlebanonky.com
DTSTART;TZID=America/Kentucky/Louisville:20260426T100000
DTEND;TZID=America/Kentucky/Louisville:20260426T160000
DTSTAMP:20260414T211654Z
URL:https://visitlebanonky.com/events/spring-pop-up-and-ribbon-cutting/
SUMMARY:Spring Pop Up and Ribbon Cutting
DESCRIPTION:✨You’re Invited! ✂️\nJoin us on April 26th as we celebr
 ate the Ribbon Cutting for Anna Mae & Co !\n🎉 Ribbon Cutting Ceremony: 
 12PM\nMake a day of it and come early (or stay after!) for their Spring Po
 p-Up featuring all your favorite local vendors! 🛍️\n🕙 Pop-Up Shopp
 ing: 10AM – 4PM\nCome show your support\, shop local\, and help us celeb
 rate this exciting new business! 💛
ATTACH;FMTTYPE=image/jpeg:https://visitlebanonky.com/wp-content/uploads/20
 26/04/spring-pop-up.jpg
CATEGORIES:Community
LOCATION:Anna Mae & Co\, 125 East MLK Avenue Suite 2\, Lebanon\, Kentucky\,
  40033\, Marion County\, United States
X-APPLE-STRUCTURED-LOCATION;VALUE=URI;X-ADDRESS=125 East MLK Avenue Suite 2
 \, Lebanon\, Kentucky\, 40033\, Marion County\, United States;X-APPLE-RADI
 US=100;X-TITLE=Anna Mae & Co:geo:0,0
END:VEVENT
BEGIN:VTIMEZONE
TZID:America/Kentucky/Louisville
X-LIC-LOCATION:America/Kentucky/Louisville
BEGIN:DAYLIGHT
DTSTART:20260308T030000
TZOFFSETFROM:-0500
TZOFFSETTO:-0400
TZNAME:EDT
END:DAYLIGHT
END:VTIMEZONE
END:VCALENDAR