BEGIN:VCALENDAR
VERSION:2.0
PRODID:-//wp-events-plugin.com//7.2.3.1//EN
BEGIN:VEVENT
UID:8950@visitlebanonky.com
DTSTART;TZID=America/Kentucky/Louisville:20260306T000000
DTEND;TZID=America/Kentucky/Louisville:20260307T000000
DTSTAMP:20260306T173621Z
URL:https://visitlebanonky.com/events/spring-shop-hop/
SUMMARY:Spring Shop Hop
DESCRIPTION:It’s time to show our local businesses some love! Join us for
  the Spring Shop Hop in Lebanon\, KY on March 6 & 7 and kick off the seaso
 n by shopping local!\n✨ Event Dates & Times:\n📅 March 6 | 4PM–8PM\n
 📅 March 7 | 10AM–4PM\nSpend the weekend exploring local shops\, findi
 ng amazing deals\, and supporting the businesses that make our community s
 pecial.\n🎉 Stay tuned for fun events happening throughout the weekend!\
 nFollow on Facebook HERE
ATTACH;FMTTYPE=image/jpeg:https://visitlebanonky.com/wp-content/uploads/20
 26/03/spring-shop-hop.jpg
CATEGORIES:Official
LOCATION:Downtown Lebanon Main and Beyond\, Downtown Lebanon Main St. and B
 eyond\, LEBANON\, KY\, 40033\, Marion County\, United States
X-APPLE-STRUCTURED-LOCATION;VALUE=URI;X-ADDRESS=Downtown Lebanon Main St. a
 nd Beyond\, LEBANON\, KY\, 40033\, Marion County\, United States;X-APPLE-R
 ADIUS=100;X-TITLE=Downtown Lebanon Main and Beyond:geo:0,0
END:VEVENT
BEGIN:VTIMEZONE
TZID:America/Kentucky/Louisville
X-LIC-LOCATION:America/Kentucky/Louisville
BEGIN:STANDARD
DTSTART:20251102T010000
TZOFFSETFROM:-0400
TZOFFSETTO:-0500
TZNAME:EST
END:STANDARD
END:VTIMEZONE
END:VCALENDAR