BEGIN:VCALENDAR
VERSION:2.0
PRODID:-//wp-events-plugin.com//7.2.3.1//EN
BEGIN:VEVENT
UID:8627@visitlebanonky.com
DTSTART;TZID=America/Kentucky/Louisville:20260113T000000
DTEND;TZID=America/Kentucky/Louisville:20260214T000000
DTSTAMP:20260113T192138Z
URL:https://visitlebanonky.com/events/spring-soccer-registration-open-till
 -february-14/
SUMMARY:Spring Soccer Registration Open till February 14
DESCRIPTION:Marion County Youth Soccer Association registration for the 25/
 26 season CLOSES ON February 14.\n\nMCYSA offers recreational soccer for c
 hildren ages 4 -13 (on their 2025 birthday). We offer U6\, U8\, U10\, U12\
 , and U14 divisions. Player age/divisions are determined according to Kent
 ucky Youth Soccer Association's rules. Please see the "Age Group For Rec S
 occer" table below to determine which division your child will play in.\n\
 nAge Group for Rec Soccer\nUNDER 14 - 2012 and 2013\nUNDER 12 - 2014 and 2
 015\nUNDER 10 - 2016 and 2017\nUNDER 8 - 2018 and 2019\nUNDER 6 - 2020 and
  2021\n**If your child turns 4 in 2025\, they are eligible to play.**\n\nP
 lease visit our Facebook group HERE\, Marion County Kentucky Youth Soccer\
 , for additional information or to message the board if you have any quest
 ions.\nRegister HERE
ATTACH;FMTTYPE=image/jpeg:https://visitlebanonky.com/wp-content/uploads/20
 25/07/mcys.jpg
CATEGORIES:Community
END:VEVENT
BEGIN:VTIMEZONE
TZID:America/Kentucky/Louisville
X-LIC-LOCATION:America/Kentucky/Louisville
BEGIN:STANDARD
DTSTART:20251102T010000
TZOFFSETFROM:-0400
TZOFFSETTO:-0500
TZNAME:EST
END:STANDARD
END:VTIMEZONE
END:VCALENDAR