BEGIN:VCALENDAR
VERSION:2.0
PRODID:-//wp-events-plugin.com//7.2.3.1//EN
BEGIN:VEVENT
UID:8668@visitlebanonky.com
DTSTART;TZID=America/Kentucky/Louisville:20260307T170000
DTEND;TZID=America/Kentucky/Louisville:20260307T230000
DTSTAMP:20260123T015932Z
URL:https://visitlebanonky.com/events/spring-social/
SUMMARY:Spring Social
DESCRIPTION:Follow on Facebook HERE
ATTACH;FMTTYPE=image/jpeg:https://visitlebanonky.com/wp-content/uploads/20
 26/01/SPRING-SOCIAL.jpg
CATEGORIES:Community
LOCATION:St Joe Community Center\, 3300 St. Joe Rd.\, Raywick\, Kentucky\, 
 40060\, Marion County\, United States
GEO:37.523808;-85.388584
X-APPLE-STRUCTURED-LOCATION;VALUE=URI;X-ADDRESS=3300 St. Joe Rd.\, Raywick\
 , Kentucky\, 40060\, Marion County\, United States;X-APPLE-RADIUS=100;X-TI
 TLE=St Joe Community Center:geo:37.523808,-85.388584
END:VEVENT
BEGIN:VTIMEZONE
TZID:America/Kentucky/Louisville
X-LIC-LOCATION:America/Kentucky/Louisville
BEGIN:STANDARD
DTSTART:20251102T010000
TZOFFSETFROM:-0400
TZOFFSETTO:-0500
TZNAME:EST
END:STANDARD
END:VTIMEZONE
END:VCALENDAR