BEGIN:VCALENDAR
VERSION:2.0
PRODID:-//wp-events-plugin.com//7.2.3.1//EN
BEGIN:VEVENT
UID:5981@visitlebanonky.com
DTSTART;TZID=America/Kentucky/Louisville:20241003T170000
DTEND;TZID=America/Kentucky/Louisville:20241003T190000
DTSTAMP:20240810T151558Z
URL:https://visitlebanonky.com/events/spring-view-hospital-baby-fair-2/
SUMMARY:Spring View Hospital Baby Fair
DESCRIPTION:From the event page on Facebook at https://fb.me/e/3Z7COVyWU\nJ
 oin us for a fantastic event to meet our dedicated Obstetrics and Pediatri
 c Team! It's open to everyone\, so bring your friends and family! We've go
 t exciting vendor booths\, fantastic door prizes\, delightful gifts\, incr
 edible giveaways\, and much more in store for you. Plus\, don't miss the c
 hance to connect with our friendly OB nursing staff and explore our state-
 of-the-art Women's Center. This event is a must for moms-to-be and anyone 
 interested in exceptional healthcare. We can't wait to see you there!
ATTACH;FMTTYPE=image/jpeg:https://visitlebanonky.com/wp-content/uploads/20
 24/08/baby-fair.jpg
CATEGORIES:Community
LOCATION:Spring View Hospital\, 320 Loretto Road\, Lebanon\, KY/Marion\, 40
 033\, Marion County\, United States
X-APPLE-STRUCTURED-LOCATION;VALUE=URI;X-ADDRESS=320 Loretto Road\, Lebanon\
 , KY/Marion\, 40033\, Marion County\, United States;X-APPLE-RADIUS=100;X-T
 ITLE=Spring View Hospital:geo:0,0
END:VEVENT
BEGIN:VTIMEZONE
TZID:America/Kentucky/Louisville
X-LIC-LOCATION:America/Kentucky/Louisville
BEGIN:DAYLIGHT
DTSTART:20240310T030000
TZOFFSETFROM:-0500
TZOFFSETTO:-0400
TZNAME:EDT
END:DAYLIGHT
END:VTIMEZONE
END:VCALENDAR