BEGIN:VCALENDAR
VERSION:2.0
PRODID:-//wp-events-plugin.com//7.2.3.1//EN
BEGIN:VEVENT
UID:7841@visitlebanonky.com
DTSTART;TZID=America/Kentucky/Louisville:20250930T170000
DTEND;TZID=America/Kentucky/Louisville:20250930T190000
DTSTAMP:20250825T195928Z
URL:https://visitlebanonky.com/events/spring-view-hospital-baby-fair/
SUMMARY:Spring View Hospital Baby Fair
DESCRIPTION:Join us for a fantastic event to meet our dedicated Obstetrics 
 and Pediatric Team! It's open to everyone\, so bring your friends and fami
 ly! We've got exciting vendor booths\, fantastic door prizes\, delightful 
 gifts\, incredible giveaways\, and much more in store for you. Plus\, don'
 t miss the chance to connect with our friendly OB nursing staff and explor
 e our state-of-the-art Women's Center. This event is a must for moms-to-be
  and anyone interested in exceptional healthcare. We can't wait to see you
  there! \nYou can follow the event page on Facebook at https://www.faceboo
 k.com/share/1FCfAo5R4f/
ATTACH;FMTTYPE=image/jpeg:https://visitlebanonky.com/wp-content/uploads/20
 25/07/baby-fair.jpg
CATEGORIES:Community
LOCATION:Spring View Hospital\, 320 Loretto Road\, Lebanon\, KY/Marion\, 40
 033\, Marion County\, United States
X-APPLE-STRUCTURED-LOCATION;VALUE=URI;X-ADDRESS=320 Loretto Road\, Lebanon\
 , KY/Marion\, 40033\, Marion County\, United States;X-APPLE-RADIUS=100;X-T
 ITLE=Spring View Hospital:geo:0,0
END:VEVENT
BEGIN:VTIMEZONE
TZID:America/Kentucky/Louisville
X-LIC-LOCATION:America/Kentucky/Louisville
BEGIN:DAYLIGHT
DTSTART:20250309T030000
TZOFFSETFROM:-0500
TZOFFSETTO:-0400
TZNAME:EDT
END:DAYLIGHT
END:VTIMEZONE
END:VCALENDAR