BEGIN:VCALENDAR
VERSION:2.0
PRODID:-//wp-events-plugin.com//7.2.3.1//EN
BEGIN:VEVENT
UID:8953@visitlebanonky.com
DTSTART;TZID=America/Kentucky/Louisville:20260313T120000
DTEND;TZID=America/Kentucky/Louisville:20260313T130000
DTSTAMP:20260306T175137Z
URL:https://visitlebanonky.com/events/spring-view-hospital-groundbreaking-
 ceremony-new-surgical-expansion-project/
SUMMARY:Spring View Hospital Groundbreaking Ceremony - New Surgical Expansi
 on Project
DESCRIPTION:Spring View Hospital to Break Ground on Surgical Services Expan
 sion\nSpringfield – Spring View Hospital will hold a groundbreaking cere
 mony for its new Surgical Services Expansion Project on Friday\, March 13\
 , 2026\, at 12:00 p.m. on the hospital campus.\nHospital officials say the
  expansion represents a major step forward in enhancing healthcare service
 s for the region.  The project will add new operating rooms\, expand acces
 s to advanced surgical technology\, and improve the hospital’s capacity 
 to serve patients with the latest medical innovations.\nCommunity members\
 , local leaders\, and healthcare partners are invited to attend the ceremo
 ny as the hospital marks this significant investment in the health and wel
 l-being of the region.\nThe Surgical Services Expansion is expected to str
 engthen the hospital’s ability to meet the growing healthcare needs of p
 atients and families in Lebanon and surrounding areas.
ATTACH;FMTTYPE=image/jpeg:https://visitlebanonky.com/wp-content/uploads/20
 26/03/SVH.jpg
CATEGORIES:Community
LOCATION:Spring View Hospital\, 320 Loretto Road\, Lebanon\, KY/Marion\, 40
 033\, Marion County\, United States
X-APPLE-STRUCTURED-LOCATION;VALUE=URI;X-ADDRESS=320 Loretto Road\, Lebanon\
 , KY/Marion\, 40033\, Marion County\, United States;X-APPLE-RADIUS=100;X-T
 ITLE=Spring View Hospital:geo:0,0
END:VEVENT
BEGIN:VTIMEZONE
TZID:America/Kentucky/Louisville
X-LIC-LOCATION:America/Kentucky/Louisville
BEGIN:DAYLIGHT
DTSTART:20260308T030000
TZOFFSETFROM:-0500
TZOFFSETTO:-0400
TZNAME:EDT
END:DAYLIGHT
END:VTIMEZONE
END:VCALENDAR