BEGIN:VCALENDAR
VERSION:2.0
PRODID:-//wp-events-plugin.com//7.2.3.1//EN
BEGIN:VEVENT
UID:6579@visitlebanonky.com
DTSTART;TZID=America/Kentucky/Louisville:20241210T173000
DTEND;TZID=America/Kentucky/Louisville:20241210T190000
DTSTAMP:20241203T040009Z
URL:https://visitlebanonky.com/events/springfield-visits-with-santa-2/
SUMMARY:Springfield Visits With Santa
DESCRIPTION:From Facebook at https://www.facebook.com/SpringfieldMainStreet
 \n\n 
ATTACH;FMTTYPE=image/jpeg:https://visitlebanonky.com/wp-content/uploads/20
 24/12/santa.jpg
CATEGORIES:Official
LOCATION:Springfield Opera House\, 124 W. Main St.\, Springfield\, Kentucky
 \, 40069\, Washington County\, United States
GEO:37.685307;-85.222427
X-APPLE-STRUCTURED-LOCATION;VALUE=URI;X-ADDRESS=124 W. Main St.\, Springfie
 ld\, Kentucky\, 40069\, Washington County\, United States;X-APPLE-RADIUS=1
 00;X-TITLE=Springfield Opera House:geo:37.685307,-85.222427
END:VEVENT
BEGIN:VTIMEZONE
TZID:America/Kentucky/Louisville
X-LIC-LOCATION:America/Kentucky/Louisville
BEGIN:STANDARD
DTSTART:20241103T010000
TZOFFSETFROM:-0400
TZOFFSETTO:-0500
TZNAME:EST
END:STANDARD
END:VTIMEZONE
END:VCALENDAR